BEGIN:VCALENDAR
VERSION:2.0
PRODID:-//wp-events-plugin.com//7.2.1//EN
BEGIN:VEVENT
UID:633@wp.bearessentialnews.com
DTSTART;TZID=America/Phoenix:20261107T090000
DTEND;TZID=America/Phoenix:20261107T130000
DTSTAMP:20260407T215951Z
URL:https://wp.bearessentialnews.com/events/zero-waste-tucson/
SUMMARY:Zero Waste Tucson
DESCRIPTION:ZERO WASTE TUCSON is a FREE collection drive for Tucson and the
  surrounding areas to recycle their commonly used goods.\n\n\n\nRecycle cl
 othing\, shoes\, small furniture\, books\, housewares\, pet beds\, electro
 nics and more.\n\nVisit the website to see what items are accepted and wha
 t items cannot be donated.\n\nhttps://www.tucsonzerowaste.com/\n\n
CATEGORIES:Tucson
LOCATION:Catalina United Methodist Church\, 2700 E. Speedway\, Tucson\, AZ\
 , United States
X-APPLE-STRUCTURED-LOCATION;VALUE=URI;X-ADDRESS=2700 E. Speedway\, Tucson\,
  AZ\, United States;X-APPLE-RADIUS=100;X-TITLE=Catalina United Methodist C
 hurch:geo:0,0
END:VEVENT
BEGIN:VTIMEZONE
TZID:America/Phoenix
X-LIC-LOCATION:America/Phoenix
BEGIN:STANDARD
DTSTART:20251107T090000
TZOFFSETFROM:-0700
TZOFFSETTO:-0700
TZNAME:MST
END:STANDARD
END:VTIMEZONE
END:VCALENDAR