BEGIN:VCALENDAR
VERSION:2.0
PRODID:-//wp-events-plugin.com//7.2.1//EN
BEGIN:VEVENT
UID:635@wp.bearessentialnews.com
DTSTART;TZID=America/Phoenix:20260531T110000
DTEND;TZID=America/Phoenix:20260531T170000
DTSTAMP:20260409T230333Z
URL:https://wp.bearessentialnews.com/events/the-520-card-show-2/
SUMMARY:The 520 Card Show
DESCRIPTION:The 520 Card Show is committed to delivering a top-tier experie
 nce for collectors\, players\, and fans across Southern Arizona.\nOur goal
  is simple: to create an exciting\, inclusive event where the local commun
 ity can buy\, sell\, trade\, and connect.\nWe’re working hand-in-hand wi
 th local collectors\, shops\, and players to build a show that everyone ca
 n enjoy.\nSensory Free Hour today from 9–10 a.m. No Music\, No Crowds an
 d Pikachu.\n\nGeneral Admission $8\n\nVIP $13\n\nKids 12 and under are fre
 e\n\nhttps://www.520cardshow.com/
ATTACH;FMTTYPE=image/jpeg:https://wp.bearessentialnews.com/wp-content/uplo
 ads/2026/04/520-summer-show-flyer-one-1.png
CATEGORIES:Tucson
LOCATION:Tucson Convention Center\, 260 S. Church\, Tucson\, AZ\, United St
 ates
X-APPLE-STRUCTURED-LOCATION;VALUE=URI;X-ADDRESS=260 S. Church\, Tucson\, AZ
 \, United States;X-APPLE-RADIUS=100;X-TITLE=Tucson Convention Center:geo:0
 ,0
END:VEVENT
BEGIN:VTIMEZONE
TZID:America/Phoenix
X-LIC-LOCATION:America/Phoenix
BEGIN:STANDARD
DTSTART:20250531T110000
TZOFFSETFROM:-0700
TZOFFSETTO:-0700
TZNAME:MST
END:STANDARD
END:VTIMEZONE
END:VCALENDAR