BEGIN:VCALENDAR
VERSION:2.0
PRODID:-//wp-events-plugin.com//7.2.1//EN
BEGIN:VEVENT
UID:640@wp.bearessentialnews.com
DTSTART;TZID=America/Phoenix:20260517T150000
DTEND;TZID=America/Phoenix:20260517T160000
DTSTAMP:20260410T194018Z
URL:https://wp.bearessentialnews.com/events/teens-create-at-bookmans-mesa-
 2/
SUMMARY:Teens Create at Bookmans Mesa
DESCRIPTION:Hey\, teens! Are you ready to put your ideas on the page? Our C
 omic Book Workshop will guide you through the creative process of creating
  your very own comic book! Learn all of the steps to designing intriguing 
 characters\, writing a page-turning plot\, and drawing your own storyboard
 .\nThis workshop meets on the 3rd Sunday of every month from 3-4 p.m. at B
 ookmans Mesa.\nTeens Create: Comic Book Workshop is led by local comic boo
 k creator Karaoke Fanboy Press.
ATTACH;FMTTYPE=image/jpeg:https://wp.bearessentialnews.com/wp-content/uplo
 ads/2026/01/book_teens.png
CATEGORIES:Phoenix
LOCATION:Bookmans\, 1056 S. Country Club Drive\, Mesa\, AZ\, United States
X-APPLE-STRUCTURED-LOCATION;VALUE=URI;X-ADDRESS=1056 S. Country Club Drive\
 , Mesa\, AZ\, United States;X-APPLE-RADIUS=100;X-TITLE=Bookmans:geo:0,0
END:VEVENT
BEGIN:VTIMEZONE
TZID:America/Phoenix
X-LIC-LOCATION:America/Phoenix
BEGIN:STANDARD
DTSTART:20250517T150000
TZOFFSETFROM:-0700
TZOFFSETTO:-0700
TZNAME:MST
END:STANDARD
END:VTIMEZONE
END:VCALENDAR