BEGIN:VCALENDAR
VERSION:2.0
PRODID:-//wp-events-plugin.com//7.2.1//EN
BEGIN:VEVENT
UID:629@wp.bearessentialnews.com
DTSTART;TZID=America/Phoenix:20260517T130000
DTEND;TZID=America/Phoenix:20260517T190000
DTSTAMP:20260407T204744Z
URL:https://wp.bearessentialnews.com/events/sunflower-days-at-vertuccio-fa
 rms-8/
SUMMARY:Sunflower Days at Vertuccio Farms
DESCRIPTION:Pictures\, Play &amp\; Sunflower Days\n\nSpring on the farm is 
 the perfect chance to pack a picnic lunch and enjoy the farm. Snacks from 
 our concession stand and items from food trucks will be available for purc
 hase.\n\nExcellent for Photo Opportunities\n\nArizona’s finest sunflower
 s and numerous other scenic spots will be ready to capture special moments
  with your loved ones and create lasting family memories.\n\nThere are ove
 r 4 acres filled with three varieties of Arizona’s finest Sunflowers\; b
 ring your shears and pick some of these beautiful flowers. If you need a b
 ucket or pair of sheers\, we will also have them for sale.\n\nAdmission In
 cludes:\n\nFlower Picking\n\nTube Slides\n\nNew Ropes Course\n\nMini Golf\
 n\nPetting Zoo\n\nAir Pillow and Jump Pads\n\nAdmission is $12 per person 
 for adults and includes a free bloom pick. Additional blooms $1 each.\n\nC
 hildren 2 years of age and under are free with a paid adult. Parking is fr
 ee.
ATTACH;FMTTYPE=image/jpeg:https://wp.bearessentialnews.com/wp-content/uplo
 ads/2026/04/VertuccioSun.jpg
CATEGORIES:Phoenix
LOCATION:Vertuccio Farms\, 4011 S. Power Road\, Mesa\, AZ\, 85212\, United 
 States
X-APPLE-STRUCTURED-LOCATION;VALUE=URI;X-ADDRESS=4011 S. Power Road\, Mesa\,
  AZ\, 85212\, United States;X-APPLE-RADIUS=100;X-TITLE=Vertuccio Farms:geo
 :0,0
END:VEVENT
BEGIN:VTIMEZONE
TZID:America/Phoenix
X-LIC-LOCATION:America/Phoenix
BEGIN:STANDARD
DTSTART:20250517T130000
TZOFFSETFROM:-0700
TZOFFSETTO:-0700
TZNAME:MST
END:STANDARD
END:VTIMEZONE
END:VCALENDAR