BEGIN:VCALENDAR
VERSION:2.0
PRODID:-//wp-events-plugin.com//7.2.1//EN
BEGIN:VEVENT
UID:644@wp.bearessentialnews.com
DTSTART;TZID=America/Phoenix:20260510T190000
DTEND;TZID=America/Phoenix:20260510T210000
DTSTAMP:20260413T213921Z
URL:https://wp.bearessentialnews.com/events/free-mothers-day-concert/
SUMMARY:Free Mother's Day Concert
DESCRIPTION:The Tucson Pops Orchestra proudly resumes live concerts\, annou
 ncing its 2026 spring series.  All concerts begin at 7:00 PM at the DeMee
 ster Outdoor Performance Center\, Reid Park.  Bring your family\, friends
  and a blanket or lawn chair to enjoy a season of spectacular Music Under 
 The Stars™ open to the Tucson community.  Donations are encouraged.\n\n
 Food trucks\n\nCoffee\, ice coffee and ice tea available at the Southern A
 rizona Animal Food Bank booth
CATEGORIES:Tucson
LOCATION:DeMeester Outdoor Performance Center\, 900 S. Randolph Way\, Tucso
 n\, AZ\, 85716\, United States
X-APPLE-STRUCTURED-LOCATION;VALUE=URI;X-ADDRESS=900 S. Randolph Way\, Tucso
 n\, AZ\, 85716\, United States;X-APPLE-RADIUS=100;X-TITLE=DeMeester Outdoo
 r Performance Center:geo:0,0
END:VEVENT
BEGIN:VTIMEZONE
TZID:America/Phoenix
X-LIC-LOCATION:America/Phoenix
BEGIN:STANDARD
DTSTART:20250510T190000
TZOFFSETFROM:-0700
TZOFFSETTO:-0700
TZNAME:MST
END:STANDARD
END:VTIMEZONE
END:VCALENDAR