BEGIN:VCALENDAR
VERSION:2.0
PRODID:-//wp-events-plugin.com//7.2.1//EN
BEGIN:VEVENT
UID:404@wp.bearessentialnews.com
DTSTART;TZID=America/Phoenix:20260606T100000
DTEND;TZID=America/Phoenix:20260606T190000
DTSTAMP:20260115T225312Z
URL:https://wp.bearessentialnews.com/events/fan-fusion-phoenix-2/
SUMMARY:Fan Fusion Phoenix
DESCRIPTION:One weekend. Every side of you. Join the tradition where fans f
 ind their people\, their passion\, and a place that feels like home.\n\nEx
 plore immersive exhibits that bring pop culture worlds to life! From inter
 active displays to exclusive memorabilia\, each exhibit offers a unique jo
 urney through fandom. Dive into your favorite genres and discover somethin
 g new around every corner.\n\n\nFrom immersive panels to unique photo ops\
 , discover unforgettable experiences waiting for you at Phoenix Fan Fusion
 .\n\nhttps://www.phoenixfanfusion.com/
CATEGORIES:Phoenix
LOCATION:Phoenix Convention Center\, 100 N. 3rd Street\, Phoenix\, United S
 tates
X-APPLE-STRUCTURED-LOCATION;VALUE=URI;X-ADDRESS=100 N. 3rd Street\, Phoenix
 \, United States;X-APPLE-RADIUS=100;X-TITLE=Phoenix Convention Center:geo:
 0,0
END:VEVENT
BEGIN:VTIMEZONE
TZID:America/Phoenix
X-LIC-LOCATION:America/Phoenix
BEGIN:STANDARD
DTSTART:20250606T100000
TZOFFSETFROM:-0700
TZOFFSETTO:-0700
TZNAME:MST
END:STANDARD
END:VTIMEZONE
END:VCALENDAR