BEGIN:VCALENDAR
VERSION:2.0
PRODID:-//wp-events-plugin.com//7.2.1//EN
BEGIN:VEVENT
UID:387@wp.bearessentialnews.com
DTSTART;TZID=America/Phoenix:20260622T090000
DTEND;TZID=America/Phoenix:20260622T140000
DTSTAMP:20260102T202032Z
URL:https://wp.bearessentialnews.com/events/community-book-sale-pima-count
 y-library-24/
SUMMARY:Community Book Sale Pima County Library
DESCRIPTION:\n\n\nAt the Book Barn\, you’ll find an ever-changing selecti
 on of gently used books\, vinyl records\, puzzles\, DVDs\, and more — or
 ganized and easy to browse. Prices are low\, and treasures are many! We so
 rt\, clean\, and organize all donations with care\, so every shopping trip
  feels like browsing a beloved neighborhood bookstore.\n\nWhile you’re h
 ere\, you’ll discover…\n– Hardback and softcover books of all genres
 \n– Fiction and nonfiction for all ages\n– Rare and vintage books\n–
  Cookbooks\, travel guides\, history\, art\, &amp\; more\n– Kids’ and 
 YA books at unbeatable prices\n– CDs\, DVDs\, and Vinyl Records\n– Col
 lectibles in the Best of Friends Room\n– A different seasonal display co
 llection each month\nWhether you’re building your home library\, looking
  for a one-of-a-kind gift\, or just love the hunt\, there’s always somet
 hing new to uncover at the Book Barn!\nThere’s nothing quite like browsi
 ng a room full of books and letting your next favorite story find you. Wh
 en you shop with Friends of the Pima County Public Library\, you support l
 ibrary programs\, literacy initiatives\, and a sustainable culture of reus
 e — just by picking up a great book.\n\n&nbsp\;\n\nCommunity Sale Daily 
 Discounts:\n\n\n\n\n\n\n 	\n\nFridayRegular Prices\n\n 	\n\nSaturday25% OF
 F\n\n 	\n\nSunday50% OFF\n\n 	\n\nMonday$10 Bag Day*\n*Must use blue Frien
 ds of the Library bags.\ninfo@pimafriends.com\n\n\n\n\n
ATTACH;FMTTYPE=image/jpeg:https://wp.bearessentialnews.com/wp-content/uplo
 ads/2026/01/Friends-Logo-square.png
CATEGORIES:Tucson
LOCATION:Book Barn\, 2230 N. Country Club Road\, Tucson\, AZ\, 85716\, Unit
 ed States
X-APPLE-STRUCTURED-LOCATION;VALUE=URI;X-ADDRESS=2230 N. Country Club Road\,
  Tucson\, AZ\, 85716\, United States;X-APPLE-RADIUS=100;X-TITLE=Book Barn:
 geo:0,0
END:VEVENT
BEGIN:VTIMEZONE
TZID:America/Phoenix
X-LIC-LOCATION:America/Phoenix
BEGIN:STANDARD
DTSTART:20250622T090000
TZOFFSETFROM:-0700
TZOFFSETTO:-0700
TZNAME:MST
END:STANDARD
END:VTIMEZONE
END:VCALENDAR