BEGIN:VCALENDAR
VERSION:2.0
PRODID:-//wp-events-plugin.com//7.2.1//EN
BEGIN:VEVENT
UID:445@wp.bearessentialnews.com
DTSTART;TZID=America/Phoenix:20260430T170000
DTEND;TZID=America/Phoenix:20260430T190000
DTSTAMP:20260202T205627Z
URL:https://wp.bearessentialnews.com/events/cmt-discovery-nights-17/
SUMMARY:CMT Discovery Nights
DESCRIPTION:\n\nDiscovery Nights provide flexibility for working families a
 nd offer inclusive hands-on exploration in arts and science activities.\nD
 iscovery Nights programming includes an interactive blend of science and a
 rts. Discovery Nights include bilingual activities in an evening program p
 roviding flexibility for working caregivers to experience the Museum for f
 ree admission. Activities include bilingual Storytime\, interactive pop-up
  science experiments and arts projects. CMT’s exhibits are fully accessi
 ble and provide the backdrop for creative exploration.\nPay-what-you-wish 
 admission\n5 pm-7 pm every Thursday\nhttps://childrensmuseumtucson.org/dis
 covery-nights/\n200 S. 6th Ave\n\n
ATTACH;FMTTYPE=image/jpeg:https://wp.bearessentialnews.com/wp-content/uplo
 ads/2026/01/discovery-nights-white.png
CATEGORIES:Tucson
LOCATION:Children's Museum Tucson\, 200 S. 6th Avenue\, Tucson\, AZ\, Unite
 d States
X-APPLE-STRUCTURED-LOCATION;VALUE=URI;X-ADDRESS=200 S. 6th Avenue\, Tucson\
 , AZ\, United States;X-APPLE-RADIUS=100;X-TITLE=Children's Museum Tucson:g
 eo:0,0
END:VEVENT
BEGIN:VTIMEZONE
TZID:America/Phoenix
X-LIC-LOCATION:America/Phoenix
BEGIN:STANDARD
DTSTART:20250430T170000
TZOFFSETFROM:-0700
TZOFFSETTO:-0700
TZNAME:MST
END:STANDARD
END:VTIMEZONE
END:VCALENDAR