BEGIN:VCALENDAR
VERSION:2.0
PRODID:-//wp-events-plugin.com//7.2.1//EN
BEGIN:VEVENT
UID:612@wp.bearessentialnews.com
DTSTART;TZID=America/Phoenix:20260411T090000
DTEND;TZID=America/Phoenix:20260411T120000
DTSTAMP:20260330T210953Z
URL:https://wp.bearessentialnews.com/events/clothing-swap-at-reid-park-zoo
 /
SUMMARY:Clothing Swap at Reid Park Zoo
DESCRIPTION:Join us on April 11 for our first ever Clothing Swap Conservati
 on Fundraiser and keep your old clothes out of the landfill!\nBring clean 
 and gently used clothing\, accessories\, and shoes that you no longer wear
  to donate to the swap. Then browse through other donations to find some n
 ew-to-you treasures! Don’t forget a reusable bag to bring your new finds
  home in!\n\nPrice: $15\, which includes admission to the Zoo\n\nRegister:
  https://reidparkzoo.org/event/clothing-swap-conservation-fundraiser/?utm_
 medium=email&amp\;utm_source=govdelivery
ATTACH;FMTTYPE=image/jpeg:https://wp.bearessentialnews.com/wp-content/uplo
 ads/2026/03/zoo_clothingswap.jpg
CATEGORIES:Tucson
LOCATION:Reid Park Zoo\, 3400 Zoo Court\, Tucson\, AZ\, 85716\, United Stat
 es
X-APPLE-STRUCTURED-LOCATION;VALUE=URI;X-ADDRESS=3400 Zoo Court\, Tucson\, A
 Z\, 85716\, United States;X-APPLE-RADIUS=100;X-TITLE=Reid Park Zoo:geo:0,0
END:VEVENT
BEGIN:VTIMEZONE
TZID:America/Phoenix
X-LIC-LOCATION:America/Phoenix
BEGIN:STANDARD
DTSTART:20250411T090000
TZOFFSETFROM:-0700
TZOFFSETTO:-0700
TZNAME:MST
END:STANDARD
END:VTIMEZONE
END:VCALENDAR