BEGIN:VCALENDAR
VERSION:2.0
PRODID:-//wp-events-plugin.com//7.2.1//EN
BEGIN:VEVENT
UID:615@wp.bearessentialnews.com
DTSTART;TZID=America/Phoenix:20260502T100000
DTEND;TZID=America/Phoenix:20260502T160000
DTSTAMP:20260402T210224Z
URL:https://wp.bearessentialnews.com/events/birthday-celebration-at-the-sq
 uare/
SUMMARY:Birthday Celebration at the Square
DESCRIPTION:FREE EVENT\n\n\n\n\nThe Square PHX is turning 46\, and we need 
 your help to celebrate! Join us on Saturday\, May 2nd for a day of games\,
  crafts\, sweet treats\, and more as we say “happy birthday” to our lo
 cal nonprofit! Stop by between 10am and 4pm and enjoy:\n\n 	Tours of Rosso
 n House for $4.60\n 	Ladybug release in the rose garden\n 	Raffle prizes\n
  	Lawn games\n 	Arts and crafts\n 	and more to be announced!\n\nMark your 
 calendars for this fun and free celebration in the heart of Downtown Phoen
 ix!\n\n\n\n
ATTACH;FMTTYPE=image/jpeg:https://wp.bearessentialnews.com/wp-content/uplo
 ads/2026/04/square.png
CATEGORIES:Phoenix
LOCATION:The Square\, 113 N. Sixth Street\, Phoenix\, AZ\, 85004\, United S
 tates
X-APPLE-STRUCTURED-LOCATION;VALUE=URI;X-ADDRESS=113 N. Sixth Street\, Phoen
 ix\, AZ\, 85004\, United States;X-APPLE-RADIUS=100;X-TITLE=The Square:geo:
 0,0
END:VEVENT
BEGIN:VTIMEZONE
TZID:America/Phoenix
X-LIC-LOCATION:America/Phoenix
BEGIN:STANDARD
DTSTART:20250502T100000
TZOFFSETFROM:-0700
TZOFFSETTO:-0700
TZNAME:MST
END:STANDARD
END:VTIMEZONE
END:VCALENDAR